BEGIN:VCALENDAR
VERSION:2.0
PRODID:-//wp-events-plugin.com//5.99912//EN
BEGIN:VEVENT
UID:572@mepra.org
DTSTART:20260427T080000Z
DTEND:20260427T091500Z
DTSTAMP:20260417T073630Z
URL:http://www.mepra.org/events/communicating-amid-chaos-lessons-from-ukra
 ine-for-communicators-in-the-middle-east/
SUMMARY:Communicating Amid Chaos: Lessons from Ukraine for Communicators in
  the Middle East
DESCRIPTION:A Joint CIPR Crisis Communications Network\, MEPRA and ICCO Ope
 n-House Drop-In Session. This experience – at least at this scale – ma
 y be new to many in the region. However\, it has\, tragically\, been the d
 aily experience of professional communicators across Ukraine for the past 
 four years.  Against that deeply uncertain backdrop\, the CIPR Crisis Comm
 unications Network\, MEPRA and ICCO have teamed up to host a 75-minute ope
 n house drop-in session on communicating amid conflict.
CATEGORIES:Workshop
END:VEVENT
END:VCALENDAR