BEGIN:VCALENDAR
VERSION:2.0
PRODID:-//wp-events-plugin.com//5.99912//EN
BEGIN:VEVENT
UID:571@mepra.org
DTSTART:20260506T113000Z
DTEND:20260506T123000Z
DTSTAMP:20260421T080623Z
URL:https://www.mepra.org/events/getting-started-in-media-measurement/
SUMMARY:Getting Started in Media Measurement
DESCRIPTION:Are you relying on counting clips or AVEs to show how well your
  PR is working? Do you want to better demonstrate the ROI of your campaign
 s to your clients or management?
CATEGORIES:MEPRA Academy
END:VEVENT
END:VCALENDAR